BEGIN:VCALENDAR
VERSION:2.0
PRODID:-//ONIGAWARA - ECPv6.5.1.4//NONSGML v1.0//EN
CALSCALE:GREGORIAN
METHOD:PUBLISH
X-WR-CALNAME:ONIGAWARA
X-ORIGINAL-URL:http://www.onigawara.style
X-WR-CALDESC:ONIGAWARA のイベント
REFRESH-INTERVAL;VALUE=DURATION:PT1H
X-Robots-Tag:noindex
X-PUBLISHED-TTL:PT1H
BEGIN:VTIMEZONE
TZID:Asia/Tokyo
BEGIN:STANDARD
TZOFFSETFROM:+0900
TZOFFSETTO:+0900
TZNAME:JST
DTSTART:20250101T000000
END:STANDARD
END:VTIMEZONE
BEGIN:VEVENT
DTSTART;TZID=Asia/Tokyo:20260411T000000
DTEND;TZID=Asia/Tokyo:20260412T235959
DTSTAMP:20260426T061229
CREATED:20260130T120000Z
LAST-MODIFIED:20260130T082507Z
UID:1239-1775865600-1776038399@www.onigawara.style
SUMMARY:OOPARTS 2026
DESCRIPTION:OOPARTS 2026 出演決定 \n\n\n\ncinema staff presentsOOPARTS 2026 にONIGAWARA の出演が決定しました。 \n\n\n\n出演日：2026年4月11日（土）・12日（日）ステージ：KOGANE STAGE（両日） \n\n\n\n会場：岐阜市文化センター \n\n\n\nイベント詳細・チケット情報はOOPARTS 2026 オフィシャルサイトをご確認ください。▶︎ https://ooparts.gifu.jp
URL:http://www.onigawara.style/gig/ooparts-2026/
ATTACH;FMTTYPE=image/jpeg:http://www.onigawara.style/wp-content/uploads/ooparts2026_KV_v3_KV.jpg
END:VEVENT
BEGIN:VEVENT
DTSTART;TZID=Asia/Tokyo:20260324T000000
DTEND;TZID=Asia/Tokyo:20260324T235959
DTSTAMP:20260426T061229
CREATED:20260120T100000Z
LAST-MODIFIED:20260119T105213Z
UID:1231-1774310400-1774396799@www.onigawara.style
SUMMARY:サティフォ生誕祭2026
DESCRIPTION:サティフォ生誕祭2026 \n\n\n\n2026年3月24日(火) \n\n\n\n会場：下北沢Flowers Loft \n\n\n\nopen 18:30 start 19:00 \n\n\n\n前売¥4000 当日¥4500 \n\n\n\n出演：ONIGAWARA / サティフォ / crowzet(加藤慎一 from フジファブリック)crowzet support memberGt\,Vo：サティフォGt\,Vo：カナタタケヒロ(LEGO BIG MORL)Drums：ゆーまお(ヒトリエ)Key：オヤイズカナル(JINGRANG) \n\n\n\nプレイガイド発売日：1/24(土)12時〜URL：https://livepocket.jp/e/350bv
URL:http://www.onigawara.style/gig/gig-1231/
ATTACH;FMTTYPE=image/jpeg:http://www.onigawara.style/wp-content/uploads/IMG_1647.jpg
END:VEVENT
BEGIN:VEVENT
DTSTART;TZID=Asia/Tokyo:20260323T000000
DTEND;TZID=Asia/Tokyo:20260323T235959
DTSTAMP:20260426T061229
CREATED:20260131T030000Z
LAST-MODIFIED:20260130T082152Z
UID:1235-1774224000-1774310399@www.onigawara.style
SUMMARY:Alaska Jam 16th × clubasia 30th ANNIVERSARY『clubasiaからこんにちは vol.7』
DESCRIPTION:2026年3月23日(月) \n\n\n\n会場：渋谷clubasia \n\n\n\n出演：Alaska Jam / Finally / キングサリ / ONIGAWARA / Kanna　 \n\n\n\nand more… \n\n\n\nOPEN / START 17:00前売り ¥3\,500(+1D)　当日 ¥4\,000(+1D) \n\n\n\n1/31(金)12:00〜チケット発売開始！イープラス：https://eplus.jp/alaskajam/ローソンチケット：https://l-tike.com/alaskajam/ \n\n\n\n※6歳以上チケット必要。未就学児入場不可。※ご入場は整理番号順の入場となります。※ご入場時は別途ドリンク代がかかります。 \n\n\n\n【FOOD】テディラーメン
URL:http://www.onigawara.style/gig/gig-1235/
ATTACH;FMTTYPE=image/jpeg:http://www.onigawara.style/wp-content/uploads/S__61906965.jpg
END:VEVENT
BEGIN:VEVENT
DTSTART;TZID=Asia/Tokyo:20260315T000000
DTEND;TZID=Asia/Tokyo:20260315T235959
DTSTAMP:20260426T061229
CREATED:20260201T060000Z
LAST-MODIFIED:20260201T012000Z
UID:1243-1773532800-1773619199@www.onigawara.style
SUMMARY:Magic Boxxx!!
DESCRIPTION:Magic Boxxx!! \n\n\n\n2026年3月15日(日) \n\n\n\n会場：名古屋CLUB UPSET \n\n\n\n出演：Czecho No Republic / ONIGAWARA \n\n\n\nOPEN 17:00 / START 17:30前売¥4\,500- /当日¥5\,000-(D代別) \n\n\n\n【TicketMe先着先行】受付期間；2月1日(日) 15:00 ～ 2月7日(土) 23:59購入URL：https://x.gd/TvKOK \n\n\n\n一般販売：2月8日(日) 10:00～e+：https://eplus.jp/sf/detail/4477200001-P0030001ぴあ：https://w.pia.jp/t/magicboxxx/ローソン：https://l-tike.com/order/?gLcode=45177
URL:http://www.onigawara.style/gig/magic-boxxx/
ATTACH;FMTTYPE=image/jpeg:http://www.onigawara.style/wp-content/uploads/7E1FBB54-EE03-44DD-8CD7-FA4CC05E5461.jpg
END:VEVENT
BEGIN:VEVENT
DTSTART;TZID=Asia/Tokyo:20260313T000000
DTEND;TZID=Asia/Tokyo:20260313T235959
DTSTAMP:20260426T061229
CREATED:20260116T110000Z
LAST-MODIFIED:20260115T081824Z
UID:1226-1773360000-1773446399@www.onigawara.style
SUMMARY:YOKOHAMA ReNY beta  presents 音渦-otouzu-
DESCRIPTION:2026年3月13日(金)【YOKOHAMA ReNY beta  presents 音渦-otouzu-】 \n\n\n\n会場：横浜ReNY beta  \n\n\n\n出演：THE南無ズ／流田Project／ONIGAWARA／もりせいじゅ \n\n\n\nopen18:00 / start18:30 \n\n\n\n前売：¥3\,500 / 当日：¥4\,000 (D代別途要) \n\n\n\nチケット発売日：1/18(日)20:00〜 \n\n\n\nプレイガイドURL：https://eplus.jp/sf/detail/4462560001-P0030001 \n\n\n\n［INFO］横浜ReNY beta 045-225-8650
URL:http://www.onigawara.style/gig/gig-1226/
ATTACH;FMTTYPE=image/png:http://www.onigawara.style/wp-content/uploads/0313_web.png
END:VEVENT
BEGIN:VEVENT
DTSTART;TZID=Asia/Tokyo:20260205T000000
DTEND;TZID=Asia/Tokyo:20260205T235959
DTSTAMP:20260426T061229
CREATED:20251128T023224Z
LAST-MODIFIED:20251128T023224Z
UID:1214-1770249600-1770335999@www.onigawara.style
SUMMARY:"SUPER RED EMOTION!“ 
DESCRIPTION: 2026年2月5日(木) \n\n\n\n“SUPER RED EMOTION!“  \n\n\n\n会場：新宿レッドクロス \n\n\n\n open 18:30 start 19:00  \n\n\n\nadv¥3500 door¥4000 (+1D)  \n\n\n\n 出演 \n\n\n\nONIGAWARA \n\n\n\nBentham \n\n\n\n[e+] 11/29(土)12時〜販売開始(先着) \n\n\n\nhttps://eplus.jp/sf/detail/4442530001-P0030001
URL:http://www.onigawara.style/gig/super-red-emotion-2/
ATTACH;FMTTYPE=image/jpeg:http://www.onigawara.style/wp-content/uploads/260205-1.jpg
END:VEVENT
BEGIN:VEVENT
DTSTART;TZID=Asia/Tokyo:20260131T000000
DTEND;TZID=Asia/Tokyo:20260131T235959
DTSTAMP:20260426T061229
CREATED:20251209T110000Z
LAST-MODIFIED:20251209T091345Z
UID:1222-1769817600-1769903999@www.onigawara.style
SUMMARY:学校夜光 - Gakkou Yakou - vol.1
DESCRIPTION:学校夜光 – Gakkou Yakou – vol.1 \n\n\n\n【日程】2026年1月31日（土）【会場】六本木SCHOOL \n\n\n\n【出演】世が世なら / ONIGAWARA \n\n\n\n【時間】OPEN 18:30 / START 19:00【料金】前売 ¥3\,000 / 当日 ¥3\,300 \n\n\n\n【プレイガイド】Livepocket販売開始：12月9日（火）20:00〜購入ページ：https://livepocket.jp/e/slni8
URL:http://www.onigawara.style/gig/gig-1222/
ATTACH;FMTTYPE=image/jpeg:http://www.onigawara.style/wp-content/uploads/IMG_1451.jpg
END:VEVENT
BEGIN:VEVENT
DTSTART;TZID=Asia/Tokyo:20251228T000000
DTEND;TZID=Asia/Tokyo:20251228T235959
DTSTAMP:20260426T061229
CREATED:20251120T124055Z
LAST-MODIFIED:20251120T124055Z
UID:1212-1766880000-1766966399@www.onigawara.style
SUMMARY:斉藤伸也生誕祭2025
DESCRIPTION:「斉藤伸也 生誕祭2025」 \n\n\n\n出演：ONIGAWARA \n\n\n\nOPEN/START 18:30/19:00ADV/DOOR ¥3\,000/¥3\,500(+1D¥600) \n\n\n\nhttps://t.livepocket.jp/e/kn0dr
URL:http://www.onigawara.style/gig/gig-1212/
END:VEVENT
BEGIN:VEVENT
DTSTART;TZID=Asia/Tokyo:20251126T000000
DTEND;TZID=Asia/Tokyo:20251126T235959
DTSTAMP:20260426T061229
CREATED:20251009T114753Z
LAST-MODIFIED:20251009T114753Z
UID:1203-1764115200-1764201599@www.onigawara.style
SUMMARY:脱却
DESCRIPTION:『脱却』 \n\n\n\n2025年11月26日（水） \n\n\n\n会場：下北沢Flowers Loft \n\n\n\nopen 18:00 start 18:30 \n\n\n\n前売り¥3\,000/当日¥4\,000 \n\n\n\n出演：RAY / ONIGAWARA / 二丁目の魁カミングアウト \n\n\n\n10月9日21:00～🎫：https://t.livepocket.jp/e/buy35
URL:http://www.onigawara.style/gig/gig-1203/
ATTACH;FMTTYPE=image/jpeg:http://www.onigawara.style/wp-content/uploads/IMG_0917.jpg
END:VEVENT
BEGIN:VEVENT
DTSTART;TZID=Asia/Tokyo:20251124T000000
DTEND;TZID=Asia/Tokyo:20251124T235959
DTSTAMP:20260426T061229
CREATED:20251108T045609Z
LAST-MODIFIED:20251108T045609Z
UID:1206-1763942400-1764028799@www.onigawara.style
SUMMARY:あの頃フェス2025
DESCRIPTION:日程：2025年11月24日（月・祝） \n\n\n\n会場：茨城県石岡市 朝日里山学校 \n\n\n\n開場／開演：11:00 \n\n\n\n入場無料（投げ銭あり） \n\n\n\nイベント詳細： https://rocketdash.wixsite.com/anokorofes \n\n\n\nお問い合わせ：info@rocketdash.com
URL:http://www.onigawara.style/gig/gig-1206/
ATTACH;FMTTYPE=image/jpeg:http://www.onigawara.style/wp-content/uploads/anokoro2025_1107.jpg
END:VEVENT
BEGIN:VEVENT
DTSTART;TZID=Asia/Tokyo:20251116T000000
DTEND;TZID=Asia/Tokyo:20251116T235959
DTSTAMP:20260426T061229
CREATED:20250916T100000Z
LAST-MODIFIED:20250919T113012Z
UID:1191-1763251200-1763337599@www.onigawara.style
SUMMARY:ザ･チャレンジ＆ONIGAWARA主催「お楽しみ会2025 in 大阪」
DESCRIPTION:ザ･チャレンジ＆ONIGAWARA主催 \n\n\n\n「お楽しみ会2025 in 大阪」 \n\n\n\n日程：11月16日(日) \n\n\n\n場所：大阪梅田Zeela \n\n\n\n出演：ザ･チャレンジ＆ONIGAWARA / ザ･チャレンジ / ONIGAWARA \n\n\n\n時間：OPEN 16:30 / START 17:00 \n\n\n\nチケット：前売り4000円　当日4500円 \n\n\n\n9/20(土)10:00～チケット発売開始！ \n\n\n\n各種プレイガイド詳細はこちら：https://www.greens-corp.co.jp
URL:http://www.onigawara.style/gig/gig-1191/
ATTACH;FMTTYPE=image/jpeg:http://www.onigawara.style/wp-content/uploads/250913_challe.jpg
END:VEVENT
BEGIN:VEVENT
DTSTART;TZID=Asia/Tokyo:20251012T000000
DTEND;TZID=Asia/Tokyo:20251012T235959
DTSTAMP:20260426T061229
CREATED:20251001T120545Z
LAST-MODIFIED:20251001T120545Z
UID:1199-1760227200-1760313599@www.onigawara.style
SUMMARY:雨模様のソラリス presents「Festival in the Rain 2025」
DESCRIPTION:雨模様のソラリス presents「Festival in the Rain 2025」 \n\n\n\n日程：2025年10月12日(日) 下北沢4会場周遊フェス \n\n\n\n会場：下北沢シャングリラ・ADRIFT・Flowers Loft・MOSAiC \n\n\n\n■TICKET(+1Drink ¥700)  \n\n\n\n好天チケット ¥8\,800 / 一般チケット¥4\,800 / 当日券 ¥5\,500 \n\n\n\n好天チケット特典：インベントロゴTシャツ(XLのみ)/シャングリラ優先入場エリア入場 \n\n\n\nチケットURL：雨模様のソラリス presents「Festival in the Rain」2025 \n\n\n\n■リストバンド交換 \n\n\n\nMOSAiCにて 11:00 開始（予定） \n\n\n\n＜第1弾出演アーティスト＞ \n\n\n\n雨模様のソラリス \n\n\n\nパピプペポは難しい \n\n\n\n黒酢ライフ \n\n\n\nひかりのなかに \n\n\n\nARCANA PROJECT \n\n\n\nCYNHN \n\n\n\nONIGAWARA \n\n\n\nLAVILITH \n\n\n\nミームトーキョー \n\n\n\nさよならステイチューン \n\n\n\nChumToto \n\n\n\nさとりモンスター \n\n\n\nSOMOSOMO \n\n\n\ndiig \n\n\n\nKOURiN \n\n\n\nmay in film \n\n\n\n月刊PAM \n\n\n\ncowolo \n\n\n\n会心ノ一撃 \n\n\n\nMalcolm Mask McLaren \n\n\n\nYA’ABURNEE \n\n\n\nairattic \n\n\n\nil pleut \n\n\n\nGREAT MONKEYS \n\n\n\nLayn \n\n\n\nセカイシティ \n\n\n\nyumegiwa last girl \n\n\n\nXOXO EXTREME \n\n\n\n0番線と夜明け前 \n\n\n\n棘-おどろ- \n\n\n\nhakanai \n\n\n\nYOUR ADVISORY BOARD \n\n\n\nHOTALOOP \n\n\n\n可愛いって言わないと呪う！ \n\n\n\nponderosa may bloom \n\n\n\nja惹句ck \n\n\n\n幻色シアター \n\n\n\nアイル \n\n\n\nAVACLUB \n\n\n\nRETRORAIN \n\n\n\nグデイ \n\n\n\nLion net girl \n\n\n\ni_andscape \n\n\n\nニーキューオメガ \n\n\n\ndemipogune \n\n\n\nmeluQ \n\n\n\ncleomery \n\n\n\nトナリア \n\n\n\nピューパ!! \n\n\n\nTOKYOてふてふ \n\n\n\nBABYTANTS \n\n\n\n＜第2弾出演アーティスト＞ \n\n\n\nバンドじゃないもん！MAXX NAKAYOSHI \n\n\n\nLUCY \n\n\n\nMEWCATUNE \n\n\n\nPOPPiNG EMO \n\n\n\n8°世界が変われば、 \n\n\n\nねおち \n\n\n\nえくすくらめーしょん！ \n\n\n\nDrawry.
URL:http://www.onigawara.style/gig/gig-1199/
ATTACH;FMTTYPE=image/jpeg:http://www.onigawara.style/wp-content/uploads/IMG_0899.jpg
END:VEVENT
BEGIN:VEVENT
DTSTART;TZID=Asia/Tokyo:20250928T000000
DTEND;TZID=Asia/Tokyo:20250928T235959
DTSTAMP:20260426T061229
CREATED:20250731T112041Z
LAST-MODIFIED:20250731T112043Z
UID:1178-1759017600-1759103999@www.onigawara.style
SUMMARY:「TOKYO CALLING 2025」
DESCRIPTION:「TOKYO CALLING 2025」 \n\n\n\n【日程】 \n\n\n\n9/23(火祝)・9/27(土)・9/28(日) \n\n\n\n※ONIGAWARAは9/28の出演になります。 \n\n\n\n【チケット情報】 \n\n\n\nオフィシャル ローーング先行(先着先行) \n\n\n\n※1日券¥5800(D代別) \n\n\n\n※受付期間 〜8/11(月)23:59 \n\n\n\n【受付URL】 \n\n\n\nhttps://w.pia.jp/t/tokyo-calling-2025 \n\n\n\n・枚数制限：ー公演につきお一人様4枚まで(電子チケットのみ) \n\n\n\n・DL開始日：各公演日3日前 \n\n\n\nその他詳細はイベントオフィシャルサイト・SNSにて！ \n\n\n\n＜TOKYO CALLING 2025 OFFICIAL SNS＞ \n\n\n\nHP：https://tokyo-calling.jp \n\n\n\nTwitter：https://twitter.com/tokyo__calling \n\n\n\nInstagram：https://www.instagram.com/tokyo.calling \n\n\n\nYouTube：https://youtube.com/channel/UCCkgbcyh7MJxRcYk8j_Wn2A \n\n\n\nLINE：https://bit.ly/3ibIyID
URL:http://www.onigawara.style/gig/gig-1178/
ATTACH;FMTTYPE=image/jpeg:http://www.onigawara.style/wp-content/uploads/TKC2025_第七弾出演アーティスト渋谷.jpg
END:VEVENT
BEGIN:VEVENT
DTSTART;TZID=Asia/Tokyo:20250921T000000
DTEND;TZID=Asia/Tokyo:20250921T235959
DTSTAMP:20260426T061229
CREATED:20250716T110000Z
LAST-MODIFIED:20250716T092350Z
UID:1172-1758412800-1758499199@www.onigawara.style
SUMMARY:武蔵野音楽祭 19th ANNIVERSARY
DESCRIPTION:蓮の音カーニバルプレミアム \n\n\n\n\n\n\n\n\n\n「武蔵野音楽祭 19th ANNIVERSARY蓮の音カーニバルプレミアム」 \n\n\n\n2025年9月21日(日) \n\n\n\n会場：西永福JAM \n\n\n\nOPEN 17:30 START 18:00前売：¥3500　当日¥4000 \n\n\n\n出演：MAPA / ONIGAWARA / NaNoMoRaL \n\n\n\n【アコースティックステージ】はる陽。/ 森あんぱん \n\n\n\n7月19日(土)12:00〜チケット発売開始プレイガイドURL：https://tiget.net/events/415659
URL:http://www.onigawara.style/gig/gig-1172/
ATTACH;FMTTYPE=image/jpeg:http://www.onigawara.style/wp-content/uploads/0921_musafes01.jpg
END:VEVENT
BEGIN:VEVENT
DTSTART;TZID=Asia/Tokyo:20250911T000000
DTEND;TZID=Asia/Tokyo:20250911T235959
DTSTAMP:20260426T061229
CREATED:20250708T134538Z
LAST-MODIFIED:20250708T134538Z
UID:1169-1757548800-1757635199@www.onigawara.style
SUMMARY:LIVEHOLIC 10th Anniversary series～鶴 × ONIGAWARA あの日の2マン再び～
DESCRIPTION:LIVEHOLIC 10th Anniversary series～鶴 × ONIGAWARA あの日の2マン再び〜 \n\n\n\n2025年9月11日(木) \n\n\n\n会場：下北沢ライブホリック \n\n\n\nOPEN 18:30 / START 19:00 \n\n\n\n出演：鶴、ONIGAWARA \n\n\n\n前売り￥4\,000 / 当日￥5\,000(D別) \n\n\n\n7/9(水)20時〜予約開始！ \n\n\n\n🎫：https://t.livepocket.jp/e/250911tsuruoni
URL:http://www.onigawara.style/gig/gig-1169/
ATTACH;FMTTYPE=image/jpeg:http://www.onigawara.style/wp-content/uploads/IMG_0442.jpg
END:VEVENT
BEGIN:VEVENT
DTSTART;TZID=Asia/Tokyo:20250831T000000
DTEND;TZID=Asia/Tokyo:20250831T235959
DTSTAMP:20260426T061229
CREATED:20250819T150207Z
LAST-MODIFIED:20250819T150208Z
UID:1187-1756598400-1756684799@www.onigawara.style
SUMMARY:鬼ヶ島リゾート2025
DESCRIPTION:〜ONIGAWARA結成12周年ANNIVERSARY！〜 \n\n\n\n\n\n\n\n\n\n鬼ヶ島リゾート2025 \n\n\n\n〜ONIGAWARA結成12周年ANNIVERSARY！〜 \n\n\n\n2025年8月31日(日) \n\n\n\n会場：新代田FEVER \n\n\n\nopen 17:30 start 18:00 \n\n\n\n前売：¥4\,000 当日 ¥4\,500 \n\n\n\n(NEW)SPECIAL ACT：THREE WILL / ohayoumadayarou \n\n\n\nチケット発売中！ \n\n\n\ne+：https://eplus.jp/sf/detail/4338940001-P0030001
URL:http://www.onigawara.style/gig/gig-1187/
ATTACH;FMTTYPE=image/jpeg:http://www.onigawara.style/wp-content/uploads/12thOniResort-1-scaled.jpg
END:VEVENT
BEGIN:VEVENT
DTSTART;TZID=Asia/Tokyo:20250720T000000
DTEND;TZID=Asia/Tokyo:20250720T235959
DTSTAMP:20260426T061229
CREATED:20250530T111303Z
LAST-MODIFIED:20250530T111305Z
UID:1141-1752969600-1753055999@www.onigawara.style
SUMMARY:原宿RUIDO 3rd ANNIVERSARY presents. presents. THE DAY～riding the waves～
DESCRIPTION:原宿RUIDO 3rd ANNIVERSARY presents. presents. THE DAY～riding the waves～ \n\n\n\n2025年7月20日(日) \n\n\n\n会場：原宿RUIDO \n\n\n\n出演：DIVE TO THE 2ND／ONIGAWARA／LEEVELLES／ラップオバケ／天才凡人 \n\n\n\nopen 15:30 / start 16:00前売￥4\,000 / 当日￥4\,500 (D代別途要) \n\n\n\nチケット発売日：6/1(日)12:00〜イープラスURL：https://eplus.jp/sf/detail/4338670001-P0030001 \n\n\n\n［INFO］原宿RUIDO 03-6447-5567
URL:http://www.onigawara.style/gig/gig-1141/
ATTACH;FMTTYPE=image/jpeg:http://www.onigawara.style/wp-content/uploads/0720_web.jpg
END:VEVENT
BEGIN:VEVENT
DTSTART;TZID=Asia/Tokyo:20250718T000000
DTEND;TZID=Asia/Tokyo:20250718T235959
DTSTAMP:20260426T061229
CREATED:20250426T110000Z
LAST-MODIFIED:20250426T064059Z
UID:1127-1752796800-1752883199@www.onigawara.style
SUMMARY:CLUB UPSET 20th ANNIVERSARY - ぽっぷ☆ぽっぷ☆らぶ -
DESCRIPTION:CLUB UPSET 20th ANNIVERSARY – ぽっぷ☆ぽっぷ☆らぶ – \n\n\n\n2025年7月18日(金) \n\n\n\n会場：名古屋CLUB UPSET \n\n\n\n出演：ONIGAWARA / THE BOY MEETS GIRLS / PLUE \n\n\n\nOPEN 18:30 / START 19:00 \n\n\n\n前売¥3\,400 /当日¥3\,900 \n\n\n\nチケット一次先行4月26日(土)20:00〜5月6日(火)23:59URL：https://t.livepocket.jp/e/poppoplove \n\n\n\nチケット一般発売：5月10日(土) 10:00~ \n\n\n\ne+：https://eplus.jp/sf/detail/4307460001-P0030001 \n\n\n\nローソンチケット：https://l-tike.com/search/?lcd=43227 \n\n\n\nチケットぴあ：https://w.pia.jp/t/clubupset-20th-anniversary/
URL:http://www.onigawara.style/gig/gig-1127/
ATTACH;FMTTYPE=image/jpeg:http://www.onigawara.style/wp-content/uploads/07.18.告知画像.jpg
END:VEVENT
BEGIN:VEVENT
DTSTART;TZID=Asia/Tokyo:20250711T000000
DTEND;TZID=Asia/Tokyo:20250711T235959
DTSTAMP:20260426T061229
CREATED:20250406T110000Z
LAST-MODIFIED:20250405T074718Z
UID:1114-1752192000-1752278399@www.onigawara.style
SUMMARY:横浜ReNY beta presents 音渦-otouzu-
DESCRIPTION:「横浜ReNY beta presents 音渦-otouzu-」 \n\n\n\n会場：横浜ReNY beta \n\n\n\n出演：ONIGAWARA／DIVE TO THE 2ND／ウルトラ寿司ふぁいやー \n\n\n\nopen 18:00 / start 18:30前売￥3\,500 (D代別途要) \n\n\n\nチケット発売日：4/13(日)12:00〜e+：https://eplus.jp/sf/detail/4297990001-P0030001 \n\n\n\n［INFO］横浜ReNY beta 045-225-8650
URL:http://www.onigawara.style/gig/gig-1114/
ATTACH;FMTTYPE=image/png:http://www.onigawara.style/wp-content/uploads/0404_web.png
END:VEVENT
BEGIN:VEVENT
DTSTART;TZID=Asia/Tokyo:20250708T000000
DTEND;TZID=Asia/Tokyo:20250708T235959
DTSTAMP:20260426T061229
CREATED:20250503T090000Z
LAST-MODIFIED:20250429T082547Z
UID:1130-1751932800-1752019199@www.onigawara.style
SUMMARY:GOLD SOUNDZ
DESCRIPTION:「GOLD SOUNDZ」 \n\n\n\n2025年7月8日(火)会場：新宿レッドクロス \n\n\n\nOPEN 18:30 / START 19:00前売¥3\,500 / 当日¥4\,000 \n\n\n\n出演：ONIGAWARA / 松永天馬(アーバンギャルド) \n\n\n\nチケット発売日：5/4(日)10:00〜https://eplus.jp/sf/detail/4318520001-P0030001
URL:http://www.onigawara.style/gig/gold-soundz/
ATTACH;FMTTYPE=image/jpeg:http://www.onigawara.style/wp-content/uploads/250708.jpg
END:VEVENT
BEGIN:VEVENT
DTSTART;TZID=Asia/Tokyo:20250628T000000
DTEND;TZID=Asia/Tokyo:20250628T235959
DTSTAMP:20260426T061229
CREATED:20250604T074242Z
LAST-MODIFIED:20250604T074244Z
UID:1144-1751068800-1751155199@www.onigawara.style
SUMMARY:FREE THROW KAWASAKI
DESCRIPTION:FREE THROW KAWASAKI \n\n\n\n2025年6月28日(土) \n\n\n\n会場：川崎CLUB CITT’A’TTIC \n\n\n\ntime：17:00-22:00 \n\n\n\n前売り ¥2\,500 (+D)　当日 ¥2\,800 (+D) \n\n\n\nチケット発売中！LivePocket：https://t.livepocket.jp/e/tf694 \n\n\n\nメール予約：https://forms.gle/kHyQ96FgMo2CzCNf6 \n\n\n\n*LIVEONIGAWARAQPLO \n\n\n\n*GUEST DJクロマティーゆうや(NeoN)やまださき \n\n\n\nDJ :弦先誠人神啓文タイラダイスケ
URL:http://www.onigawara.style/gig/free-throw-kawasaki/
ATTACH;FMTTYPE=image/jpeg:http://www.onigawara.style/wp-content/uploads/フリスロ告知画像.jpg
END:VEVENT
BEGIN:VEVENT
DTSTART;TZID=Asia/Tokyo:20250618T000000
DTEND;TZID=Asia/Tokyo:20250618T235959
DTSTAMP:20260426T061229
CREATED:20250528T120000Z
LAST-MODIFIED:20250528T061808Z
UID:1137-1750204800-1750291199@www.onigawara.style
SUMMARY:Road to Festival in the Rain Vol.4
DESCRIPTION:Road to Festival in the Rain Vol.4 \n\n\n\n2025年6月18日(水) \n\n\n\n会場：下北沢シャングリラ \n\n\n\n出演：雨模様のソラリス / CYNHN / ONIGAWARA \n\n\n\nopen：18:30 start：19:00 \n\n\n\n好天チケット ：￥4500(好天チケット特典：優先入場/雨ソラチェキ券1枚無料) \n\n\n\n一般チケット：￥2000 \n\n\n\nチケット発売：5月29日（木）21:00チケットリンク：https://perfectmusic.zaiko.io/item/372520
URL:http://www.onigawara.style/gig/road-to-festival-in-the-rain-vol-4/
ATTACH;FMTTYPE=image/jpeg:http://www.onigawara.style/wp-content/uploads/0618-1.jpeg
END:VEVENT
BEGIN:VEVENT
DTSTART;TZID=Asia/Tokyo:20250613T000000
DTEND;TZID=Asia/Tokyo:20250613T235959
DTSTAMP:20260426T061229
CREATED:20250409T090000Z
LAST-MODIFIED:20250409T080730Z
UID:1118-1749772800-1749859199@www.onigawara.style
SUMMARY:ザ･チャレンジ＆ONIGAWARA主催「お楽しみ会2025」
DESCRIPTION:ザ･チャレンジ＆ONIGAWARA主催「お楽しみ会2025」日程：6月13日（金）場所：新代田FEVER出演：ザ･チャレンジ＆ONIGAWARA / ザ･チャレンジ / ONIGAWARA時間：OPEN 18:30 / START 19:00チケット：前売り4000円　当日4500円 \n\n\n\n4/12(土)10時〜販売開始e+：https://eplus.jp/sf/detail/4309320001-P0030001
URL:http://www.onigawara.style/gig/gig-1118/
ATTACH;FMTTYPE=image/jpeg:http://www.onigawara.style/wp-content/uploads/1744172802369.jpg
END:VEVENT
BEGIN:VEVENT
DTSTART;TZID=Asia/Tokyo:20250527T000000
DTEND;TZID=Asia/Tokyo:20250527T235959
DTSTAMP:20260426T061229
CREATED:20250321T090000Z
LAST-MODIFIED:20250318T110151Z
UID:1110-1748304000-1748390399@www.onigawara.style
SUMMARY:新宿レッドクロス「GOLD SOUNDZ」
DESCRIPTION:会場：新宿レッドクロス \n\n\n\nOPEN 18:30/START 19:00adv¥3500/door¥4000出演：桃野陽介 / ONIGAWARA[e+]チケット発売開始：3/22(土)10:00〜https://eplus.jp/sf/detail/4288960001-P0030001
URL:http://www.onigawara.style/gig/gig-1110/
ATTACH;FMTTYPE=image/jpeg:http://www.onigawara.style/wp-content/uploads/250527.jpg
END:VEVENT
BEGIN:VEVENT
DTSTART;TZID=Asia/Tokyo:20250524T000000
DTEND;TZID=Asia/Tokyo:20250524T235959
DTSTAMP:20260426T061229
CREATED:20250424T130000Z
LAST-MODIFIED:20250424T094006Z
UID:1124-1748044800-1748131199@www.onigawara.style
SUMMARY:Shimokitazawa SOUND CRUISING 2025
DESCRIPTION:Shimokitazawa SOUND CRUISING 2025 \n\n\n\n2025年5月24日(土) \n\n\n\n会場：下北沢(ライブハウス全16会場予定) \n\n\n\nオフィシャル先行4次チケット（先着） \n\n\n\nONE DAY ¥6\,800（SSC2025オリジナルグッズ付） \n\n\n\nDAY TIME ¥5\,500 \n\n\n\nNIGHT TIME ¥3\,500 \n\n\n\n期間：～ 5/9(金) 23:59まで \n\n\n\nぴあ：https://w.pia.jp/t/shimokitazawa-soundcruising/ \n\n\n\n詳細はイベントHPにて！ \n\n\n\nイベントHP：http://soundcruising.jp/
URL:http://www.onigawara.style/gig/shimokitazawa-sound-cruising-2025/
ATTACH;FMTTYPE=image/jpeg:http://www.onigawara.style/wp-content/uploads/sc2025_KV_0226_small.jpeg
END:VEVENT
BEGIN:VEVENT
DTSTART;TZID=Asia/Tokyo:20250504T000000
DTEND;TZID=Asia/Tokyo:20250504T235959
DTSTAMP:20260426T061229
CREATED:20250318T105405Z
LAST-MODIFIED:20250318T105406Z
UID:1107-1746316800-1746403199@www.onigawara.style
SUMMARY:LIVEHOLIC presents. “革命ロジック2025“ supported by Skream! & 激ロック
DESCRIPTION:【日程】2025年5月4日(日)OPEN 11:00予定 \n\n\n\n【会場】LIVEHOLIC / MOSAiC / ReG / WAVER / ろくでもない夜 / CLUB 251/ / シャングリラ / ROCKAHOLIC※下北沢8会場サーキット企画 \n\n\n\n【チケット代】前売り ¥4\,000 / 学生チケット¥3\,000(D別)※当日は+¥1\,000UP \n\n\n\nLivePocketにてチケット発売中↓http://t.livepocket.jp/e/kakumei2025※チケット販売は5月3日23時59分まで
URL:http://www.onigawara.style/gig/gig-1107/
ATTACH;FMTTYPE=image/jpeg:http://www.onigawara.style/wp-content/uploads/e¨ae­ac¬¬3a¼¾ae©a½a­a·aaa¯2025aa©a¤a¤a¼.jpg
END:VEVENT
BEGIN:VEVENT
DTSTART;TZID=Asia/Tokyo:20250412T000000
DTEND;TZID=Asia/Tokyo:20250413T235959
DTSTAMP:20260426T061229
CREATED:20250130T123220Z
LAST-MODIFIED:20250130T123230Z
UID:1094-1744416000-1744588799@www.onigawara.style
SUMMARY:cinema staff presents OOPARTS 2025
DESCRIPTION:cinema staff presents OOPARTS 2025 \n\n\n\n会場：岐阜市文化センター \n\n\n\n2025年4月12日(土)・13日(日) \n\n\n\n※ONIGAWARAは両日出演します。 \n\n\n\nOPEN 10:30 START 12:00 \n\n\n\n2DAYS/1DAY ¥15\,900/¥9\,500学割2DAYS/1DAY¥8\,000/¥4\,500 \n\n\n\nオフィシャル先行【3次】1/29(水)22:00〜2/9(日) 23:59 \n\n\n\n通し券2種/1日券2種：https://w.pia.jp/t/ooparts2025/ \n\n\n\n出演者多数、詳しくはオフィシャルHPまで↓オフィシャルHP:https://ooparts.gifu.jp
URL:http://www.onigawara.style/gig/cinema-staff-presents-ooparts-2025/
ATTACH;FMTTYPE=image/jpeg:http://www.onigawara.style/wp-content/uploads/ooparts2025_KV_part3.jpg
END:VEVENT
BEGIN:VEVENT
DTSTART;TZID=Asia/Tokyo:20250324T000000
DTEND;TZID=Asia/Tokyo:20250324T235959
DTSTAMP:20260426T061229
CREATED:20250124T110000Z
LAST-MODIFIED:20250124T100333Z
UID:1082-1742774400-1742860799@www.onigawara.style
SUMMARY:サティフォ生誕祭2025～遂に40歳スペシャル！～
DESCRIPTION:2025年3月24日（月） \n\n\n\n会場：下北沢ERA \n\n\n\n出演：ONIGAWARA、BEAT CRUSADERSのコピバン・MemberVocal：??????Guitar：タケウチサティフォ(ONIGAWARA)Drum：??????Bass：????????Key：???????? \n\n\n\nopen 18:30 start 19:00前売：¥4\,000 当日：¥4500(ドリンク代別) \n\n\n\nチケット発売日：1/25(土)10:00〜プレイガイドURL：https://t.livepocket.jp/e/az_qk
URL:http://www.onigawara.style/gig/gig-1082/
ATTACH;FMTTYPE=image/jpeg:http://www.onigawara.style/wp-content/uploads/名称​未​設定.jpg
END:VEVENT
BEGIN:VEVENT
DTSTART;TZID=Asia/Tokyo:20250315T000000
DTEND;TZID=Asia/Tokyo:20250315T235959
DTSTAMP:20260426T061229
CREATED:20250219T100000Z
LAST-MODIFIED:20250219T050516Z
UID:1101-1741996800-1742083199@www.onigawara.style
SUMMARY:ONIGAWARA写真展開催記念ミニGIG〜1日遅れのホワイトデー〜
DESCRIPTION:ONIGAWARA写真展開催記念ミニGIG〜1日遅れのホワイトデー〜 \n\n\n\n3/15(土)会場：POOTLE(新代田FEVER内) \n\n\n\nOPEN 13:00 / START 13:30 \n\n\n\nチケット予約2/22(土)12:00〜詳細はこちら→：https://forms.gle/K83dcnCokag1Lrri7 \n\n\n\n価格：3\,000円＋ドリンク代（600円）予約受付：2/22土曜日12:00～枚数：お一人様2枚まで場所：POOTLE（FEVER併設） \n\n\n\n＜注意事項＞※ 1アカウント1申し込みとなります。※予定枚数に達した場合はお申し込み頂いても受付されませんので予めご了承ください。※予約が確定した方には、 2/23より整理番号をご登録頂いたメールアドレスにメールさせて頂きます。※こちらからの返信が送れない場合がございますのでメールアドレスはなるべくPCメールでお願い致します。また iCloud.com、@me.com、@mac.comは、Appleが提供するメールアドレスのドメインには返信が届かない恐れがございますので別のメールアドレスからご登録下さい。※予約受付開始日時 以前に頂いたご予約は全て無効となりますのでご了承下さい。※お支払は当日POOTLEにてお願い致します（現金のみ）
URL:http://www.onigawara.style/gig/gig-1101/
ATTACH;FMTTYPE=image/jpeg:http://www.onigawara.style/wp-content/uploads/IMG_9532.jpg
END:VEVENT
BEGIN:VEVENT
DTSTART;TZID=Asia/Tokyo:20250309T000000
DTEND;TZID=Asia/Tokyo:20250309T235959
DTSTAMP:20260426T061229
CREATED:20250130T123042Z
LAST-MODIFIED:20250130T123043Z
UID:1091-1741478400-1741564799@www.onigawara.style
SUMMARY:NaNoMoRaL 7th Anniversary 『 nanos 』
DESCRIPTION:2025年3月9日(日) \n\n\n\n会場：新宿MARZ \n\n\n\n出演：NaNoMoRaL BAND(Guitar:ヒダカトオル\,Bass:春尾ヨシダ\,Drums:タイチサンダー) / ONIGAWARA / MAPA / NaNoMoRaL(AMPSET) \n\n\n\nOPEN 17:30 START 18:00前売3\,000円/当日3\,500円 別途1drink \n\n\n\nチケット発売日：1/31(金)21:00〜プレイガイドURL：https://t.livepocket.jp/e/nanos0309
URL:http://www.onigawara.style/gig/gig-1091/
ATTACH;FMTTYPE=image/jpeg:http://www.onigawara.style/wp-content/uploads/S__117153802.jpg
END:VEVENT
END:VCALENDAR